BEGIN:VCALENDAR
METHOD:PUBLISH
VERSION:2.0
PRODID:-//Eventilla iCal Syndication//NONSGML Liana//EN
BEGIN:VEVENT
UID:d4QaN@eventilla.com
DTSTAMP:20251128T060000Z
DTSTART:20251128T060000Z
DTEND:20251128T140000Z
SUMMARY:Pohjois-Savon Varhaiskasvattaja 2025
DESCRIPTION:Tervetuloa ilmoittautumaan Pohjois-Savon Varhaiskasvattaja -tapahtumaan pe 28.11.2025!\nPääsylippusi tapahtumaan on nimikortti\, jonka löydät tapahtuman infotiskiltä tapahtumapäivänä. Nimikortit tehdään tämän ilmoittautumislomakkeen perusteella.\nLaskulla maksettaessa vaaditaan y-tunnus.\nTarkista huolellisesti myös sähköpostiosoite\, sillä siihen lähetämme osallistujainfoa!
LOCATION:Kuopion teatteri\, Niiralankatu 2\, 70600\, Kuopio
URL:http://tapahtumat.globex.fi/vk-pohjois-savo-2025
END:VEVENT
END:VCALENDAR
