BEGIN:VCALENDAR
METHOD:PUBLISH
VERSION:2.0
PRODID:-//Eventilla iCal Syndication//NONSGML Liana//EN
BEGIN:VEVENT
UID:Wpa42@eventilla.com
DTSTAMP:20260303T060000Z
DTSTART:20260303T060000Z
DTEND:20260304T140000Z
SUMMARY:Sosiaalialan asiantuntijapäivät 2026\, näytteilleasettajat
DESCRIPTION:Näytteilleasettajien ilmoittautuminen Sosiaalialan asiantuntijapäiville 2026\nTällä lomakkeella voit hankkia lisälippuja tapahtumaan näyttelypaikkaan kuuluvien vapaalippujen (2 tai 3 kpl koosta riippuen) lisäksi.\nMuista merkitä lomakkeelle osastonne nimi ja numero\, jotta laskutus kohdistuu oikein.
LOCATION:Tampere-talo\, Yliopistonkatu 55\, 33100\, Tampere
URL:http://tapahtumat.globex.fi/atp2026-naytteilleasettajat
END:VEVENT
END:VCALENDAR
