BEGIN:VCALENDAR
METHOD:PUBLISH
VERSION:2.0
PRODID:-//Eventilla iCal Syndication//NONSGML Liana//EN
BEGIN:VEVENT
UID:VPDQz@eventilla.com
DTSTAMP:20261117T060000Z
DTSTART:20261117T060000Z
DTEND:20261117T140000Z
SUMMARY:Sosiaalityö 2026
DESCRIPTION:Ilmoittautuminen Sosiaalityö 2026 -tapahtumaan Ouluun 17.11.2026\nPääsylippusi tapahtumaan on nimikortti\, jonka löydät tapahtuman infotiskiltä tapahtumapäivänä. Nimikortit tehdään tämän ilmoittautumislomakkeen perusteella.\nJos ilmoittaudut verkkoon\, saat erilliset osallistumisohjeet sähköpostiisi lähempänä tapahtumaa. \nOsallistumismuodon valinta (paikan päällä/verkossa) tehdään seuraavalla sivulla.\nPohteen työntekijä: Valitse Pohteen lippu\, käytä saamaasi alennuskoodia ja muista merkitä lomakkeelle toimialueesi sekä kustannuspaikkatiedot.
LOCATION:Oulun teatteri\, Kaarlenväylä 2\, 90015\, Oulu
URL:http://tapahtumat.globex.fi/sosiaalityo-2026
END:VEVENT
END:VCALENDAR
