BEGIN:VCALENDAR
METHOD:PUBLISH
VERSION:2.0
PRODID:-//Eventilla iCal Syndication//NONSGML Liana//EN
BEGIN:VEVENT
UID:NPNvw@eventilla.com
DTSTAMP:20260813T050000Z
DTSTART:20260813T050000Z
DTEND:20260813T130000Z
SUMMARY:Pohjanmaan Varhaiskasvattaja 2026
DESCRIPTION:Tervetuloa ilmoittautumaan Pohjanmaan Varhaiskasvattaja 2026 -koulutustapahtumaan\nHuom! Tapahtumassa on erikseen luentosalit suomen- ja ruotsinkielisille luennoille. Valitse\, kumpaan haluat ilmoittautua. Osallistuminen molempien salien luennoille ei siis ole mahdollista.\nObs! Evenemanget har separata föreläsningssalar för finska och svenska föreläsningar. Välj vilken du vill anmäla dig till. Det är inte möjligt att delta i föreläsningar i båda salarna.\nPääsylippusi tapahtumaan on nimikortti\, jonka löydät tapahtuman infotiskiltä tapahtumapäivänä.\nIlmoittautuminen voidaan peruuttaa veloituksetta (pl. 7 € toimistokulut)\, kunhan peruutus tapahtuu viimeistään 13.7.2026. Estyneen osallistujan tilalle voidaan kustannuksitta vaihtaa toinen henkilö.\nJos haluat peruuttaa ilmoittautumisen tai vaihtaa osallistujaa\, ota yhteyttä sähköpostitse: diane(at)globex.fi.\nLaskulla maksettaessa vaaditaan y-tunnus.
LOCATION:Vaasan yliopisto, Tervahovi\, Wolffintie 32\, 65200\, Vaasa
URL:http://tapahtumat.globex.fi/vk-pohjanmaa-2026
END:VEVENT
END:VCALENDAR
