BEGIN:VCALENDAR
METHOD:PUBLISH
VERSION:2.0
PRODID:-//Eventilla iCal Syndication//NONSGML Liana//EN
BEGIN:VEVENT
UID:N00GB@eventilla.com
DTSTAMP:20261026T143000Z
DTSTART:20261026T143000Z
DTEND:20261026T190000Z
SUMMARY:Metsänomistajan ilta Keski-Suomi
DESCRIPTION:Tapahtuma on maksuton\, mutta tarjoilujen vuoksi ennakkoilmoittautuminen on välttämätöntä.\nHävikin välttämiseksi ilmoittautuminen on sitova.\nPeruthan osallistumisesi ja vapauta paikkasi jonossa oleville\, jos et pääsekään tapahtumaan.\nTarkista huolellisesti sähköpostiosoitteesi\, sillä siihen lähetämme osallistujainfoa!
LOCATION:Scandic Laajavuori\, Laajavuorentie 30\, 40740\, Jyväskylä
URL:http://tapahtumat.globex.fi/metsailta-jyvaskyla-2026
END:VEVENT
END:VCALENDAR
