BEGIN:VCALENDAR
METHOD:PUBLISH
VERSION:2.0
PRODID:-//Eventilla iCal Syndication//NONSGML Liana//EN
BEGIN:VEVENT
UID:GwOyb@eventilla.com
DTSTAMP:20260827T083000Z
DTSTART:20260827T083000Z
DTEND:20260828T120000Z
SUMMARY:Opinnäytetyön ohjaaminen
DESCRIPTION:Ilmoittautuminen Opinnäytetyön ohjaaminen -seminaariin 27.-28.8.2026\nPääsylippusi tapahtumaan on nimikortti\, jonka löydät tapahtuman infotiskiltä tapahtumapäivänä. Nimikortit tehdään tämän ilmoittautumislomakkeen perusteella.\nLaskulla maksettaessa vaaditaan y-tunnus.\nIlmoittautuminen voidaan peruuttaa veloituksetta (pl. 7 € toimistokulut)\, kunhan peruutus tapahtuu viimeistään 27.7.2026. Estyneen osallistujan tilalle voidaan kustannuksitta vaihtaa toinen henkilö. Jos haluat peruuttaa ilmoittautumisen tai vaihtaa osallistujaa\, ota yhteyttä sähköpostitse: diane(at)globex.fi.
LOCATION:Haaga-Helia\, Ratapihantie 13\, 00520\, Helsinki\, Suomi
URL:http://tapahtumat.globex.fi/ont-2026
END:VEVENT
END:VCALENDAR
