BEGIN:VCALENDAR
METHOD:PUBLISH
VERSION:2.0
PRODID:-//Eventilla iCal Syndication//NONSGML Liana//EN
BEGIN:VEVENT
UID:BgOpR@eventilla.com
DTSTAMP:20260519T210000Z
DTSTART:20260519T210000Z
DTEND:20260519T210000Z
SUMMARY:Verkkokoulutus: Arjen aallokossa – tukea tunnetaitoihin ja työhyvinvointiin
DESCRIPTION:HUOM! Tapahtuma siirtyy syksyyn-26. Lisätietoja myöhemmin.\nTervetuloa ilmoittautumaan perhepäivähoidon verkkokoulutukseen 2026\nArjen aallokossa – tukea tunnetaitoihin ja työhyvinvointiin\nKoulutus koostuu kahdesta koulutusvideosta (60 ja 45 min) viikoilla 13/2026 ja 17/2026 sekä työpajasta (1\,5 t)\, joka järjestetään ke 20.5.2026 klo 17.30-19.00.\nSaat sähköpostiisi ohjeita. Tarkista että kirjoitat sähköpostiosoitteesi oikein!\n
LOCATION:Verkkokoulutus
URL:http://tapahtumat.globex.fi/pph-2026
END:VEVENT
END:VCALENDAR
